BEGIN:VCALENDAR
VERSION:2.0
CALSCALE:GREGORIAN
PRODID:adamgibbons/ics
METHOD:PUBLISH
X-PUBLISHED-TTL:PT1H
BEGIN:VEVENT
UID:484@events.wundernas.ch
SUMMARY:Impro-Probe
DTSTAMP:20260420T032915Z
DTSTART:20260422T173000Z
DTEND:20260422T193000Z
URL:https://events.wundernas.ch/event/impro-probe-41
LOCATION:Kulturhaus Obere Stube - Oberstadt 7\, Stein am Rhein
STATUS:CONFIRMED
CATEGORIES:Improtheater
END:VEVENT
BEGIN:VEVENT
UID:485@events.wundernas.ch
SUMMARY:Impro-Probe
DTSTAMP:20260420T032915Z
DTSTART:20260429T173000Z
DTEND:20260429T193000Z
URL:https://events.wundernas.ch/event/impro-probe-42
LOCATION:Kulturhaus Obere Stube - Oberstadt 7\, Stein am Rhein
STATUS:CONFIRMED
CATEGORIES:Improtheater
END:VEVENT
BEGIN:VEVENT
UID:486@events.wundernas.ch
SUMMARY:Impro-Probe
DTSTAMP:20260420T032915Z
DTSTART:20260506T173000Z
DTEND:20260506T193000Z
URL:https://events.wundernas.ch/event/impro-probe-43
LOCATION:Kulturhaus Obere Stube - Oberstadt 7\, Stein am Rhein
STATUS:CONFIRMED
CATEGORIES:Improtheater
END:VEVENT
BEGIN:VEVENT
UID:487@events.wundernas.ch
SUMMARY:Impro-Probe
DTSTAMP:20260420T032915Z
DTSTART:20260520T173000Z
DTEND:20260520T193000Z
URL:https://events.wundernas.ch/event/impro-probe-44
LOCATION:Kulturhaus Obere Stube - Oberstadt 7\, Stein am Rhein
STATUS:CONFIRMED
CATEGORIES:Improtheater
END:VEVENT
BEGIN:VEVENT
UID:488@events.wundernas.ch
SUMMARY:Impro-Probe
DTSTAMP:20260420T032915Z
DTSTART:20260527T173000Z
DTEND:20260527T193000Z
URL:https://events.wundernas.ch/event/impro-probe-45
LOCATION:Kulturhaus Obere Stube - Oberstadt 7\, Stein am Rhein
STATUS:CONFIRMED
CATEGORIES:Improtheater
END:VEVENT
BEGIN:VEVENT
UID:489@events.wundernas.ch
SUMMARY:Impro-Probe
DTSTAMP:20260420T032915Z
DTSTART:20260603T173000Z
DTEND:20260603T193000Z
URL:https://events.wundernas.ch/event/impro-probe-46
LOCATION:Kulturhaus Obere Stube - Oberstadt 7\, Stein am Rhein
STATUS:CONFIRMED
CATEGORIES:Improtheater
END:VEVENT
BEGIN:VEVENT
UID:490@events.wundernas.ch
SUMMARY:Impro-Probe
DTSTAMP:20260420T032915Z
DTSTART:20260610T173000Z
DTEND:20260610T193000Z
URL:https://events.wundernas.ch/event/impro-probe-47
LOCATION:Kulturhaus Obere Stube - Oberstadt 7\, Stein am Rhein
STATUS:CONFIRMED
CATEGORIES:Improtheater
END:VEVENT
BEGIN:VEVENT
UID:491@events.wundernas.ch
SUMMARY:Impro-Probe
DTSTAMP:20260420T032915Z
DTSTART:20260617T173000Z
DTEND:20260617T193000Z
URL:https://events.wundernas.ch/event/impro-probe-48
LOCATION:Kulturhaus Obere Stube - Oberstadt 7\, Stein am Rhein
STATUS:CONFIRMED
CATEGORIES:Improtheater
END:VEVENT
BEGIN:VEVENT
UID:492@events.wundernas.ch
SUMMARY:Impro-Probe
DTSTAMP:20260420T032915Z
DTSTART:20260624T173000Z
DTEND:20260624T193000Z
URL:https://events.wundernas.ch/event/impro-probe-49
LOCATION:Kulturhaus Obere Stube - Oberstadt 7\, Stein am Rhein
STATUS:CONFIRMED
CATEGORIES:Improtheater
END:VEVENT
BEGIN:VEVENT
UID:493@events.wundernas.ch
SUMMARY:Impro-Probe
DTSTAMP:20260420T032915Z
DTSTART:20260701T173000Z
DTEND:20260701T193000Z
URL:https://events.wundernas.ch/event/impro-probe-50
LOCATION:Kulturhaus Obere Stube - Oberstadt 7\, Stein am Rhein
STATUS:CONFIRMED
CATEGORIES:Improtheater
END:VEVENT
END:VCALENDAR
